BEGIN:VCALENDAR
PRODID:-//eluceo/ical//2.0/EN
VERSION:2.0
CALSCALE:GREGORIAN
BEGIN:VEVENT
UID:cbf0d2c58816173eee7d3b4343c09292
DTSTAMP:20260425T205606Z
SUMMARY:Author talk: Tara Oldfield ‘Diamonds\, Furs and Murder’
DESCRIPTION:Description:\nHome among the Melbourne slums and sideshows\, Mo
 na Hayes is anything but traditional.\n'Diamonds\, Furs and Murder' is a h
 istorical fiction novel inspired by the true story and crimes of this litt
 le-known 1930s thief. Join us in welcoming author\, Tara Oldfield\, to sha
 re insights behind her meticulously-researched debut novel.\nDescribed by 
 police as a well-educated\, exceptionally clever crook\, if Mona sees some
 thing she wants\, she takes it. If the mark is deserving\, even better. Un
 deterred by jail time\, she hones her craft\, performing cons on shopkeepe
 rs and charming the police. But when Mona falls in love with the mysteriou
 s Albert Sharpe\, who will save her? Who will save him? And can Mona final
 ly pull herself out of the life of crime she’s grown accustomed to?\nIn 
 researching Victorian public records\, author Tara Oldfield was so taken b
 y Mona’s story that she embarked on a journey to create an imaginative p
 ortrait of a woman few people know\, creatively filling in the gaps of thi
 s criminal’s thrilling exploits. Come along to hear how you can do it to
 o.
URL:https://libraryevents.melton.vic.gov.au/event?id=209501
DTSTART;TZID=Australia/Melbourne:20260509T110000
DTEND;TZID=Australia/Melbourne:20260509T120000
LOCATION:Melton Library & Learning Hub\, 31 McKenzie Street\, Melton 3337 V
 IC
END:VEVENT
BEGIN:VTIMEZONE
TZID:Australia/Melbourne
BEGIN:STANDARD
DTSTART:20200501T000000
TZNAME:AEST
TZOFFSETTO:+1000
TZOFFSETFROM:+1000
END:STANDARD
BEGIN:DAYLIGHT
DTSTART:20201004T030000
TZNAME:AEDT
TZOFFSETTO:+1100
TZOFFSETFROM:+1000
END:DAYLIGHT
BEGIN:STANDARD
DTSTART:20210404T020000
TZNAME:AEST
TZOFFSETTO:+1000
TZOFFSETFROM:+1100
END:STANDARD
BEGIN:DAYLIGHT
DTSTART:20211003T030000
TZNAME:AEDT
TZOFFSETTO:+1100
TZOFFSETFROM:+1000
END:DAYLIGHT
BEGIN:STANDARD
DTSTART:20220403T020000
TZNAME:AEST
TZOFFSETTO:+1000
TZOFFSETFROM:+1100
END:STANDARD
BEGIN:DAYLIGHT
DTSTART:20221002T030000
TZNAME:AEDT
TZOFFSETTO:+1100
TZOFFSETFROM:+1000
END:DAYLIGHT
BEGIN:STANDARD
DTSTART:20230402T020000
TZNAME:AEST
TZOFFSETTO:+1000
TZOFFSETFROM:+1100
END:STANDARD
BEGIN:DAYLIGHT
DTSTART:20231001T030000
TZNAME:AEDT
TZOFFSETTO:+1100
TZOFFSETFROM:+1000
END:DAYLIGHT
BEGIN:STANDARD
DTSTART:20240407T020000
TZNAME:AEST
TZOFFSETTO:+1000
TZOFFSETFROM:+1100
END:STANDARD
BEGIN:DAYLIGHT
DTSTART:20241006T030000
TZNAME:AEDT
TZOFFSETTO:+1100
TZOFFSETFROM:+1000
END:DAYLIGHT
BEGIN:STANDARD
DTSTART:20250406T020000
TZNAME:AEST
TZOFFSETTO:+1000
TZOFFSETFROM:+1100
END:STANDARD
BEGIN:DAYLIGHT
DTSTART:20251005T030000
TZNAME:AEDT
TZOFFSETTO:+1100
TZOFFSETFROM:+1000
END:DAYLIGHT
BEGIN:STANDARD
DTSTART:20260405T020000
TZNAME:AEST
TZOFFSETTO:+1000
TZOFFSETFROM:+1100
END:STANDARD
BEGIN:DAYLIGHT
DTSTART:20261004T030000
TZNAME:AEDT
TZOFFSETTO:+1100
TZOFFSETFROM:+1000
END:DAYLIGHT
BEGIN:STANDARD
DTSTART:20270404T020000
TZNAME:AEST
TZOFFSETTO:+1000
TZOFFSETFROM:+1100
END:STANDARD
BEGIN:DAYLIGHT
DTSTART:20271003T030000
TZNAME:AEDT
TZOFFSETTO:+1100
TZOFFSETFROM:+1000
END:DAYLIGHT
BEGIN:STANDARD
DTSTART:20280402T020000
TZNAME:AEST
TZOFFSETTO:+1000
TZOFFSETFROM:+1100
END:STANDARD
BEGIN:DAYLIGHT
DTSTART:20281001T030000
TZNAME:AEDT
TZOFFSETTO:+1100
TZOFFSETFROM:+1000
END:DAYLIGHT
BEGIN:STANDARD
DTSTART:20290401T020000
TZNAME:AEST
TZOFFSETTO:+1000
TZOFFSETFROM:+1100
END:STANDARD
BEGIN:DAYLIGHT
DTSTART:20291007T030000
TZNAME:AEDT
TZOFFSETTO:+1100
TZOFFSETFROM:+1000
END:DAYLIGHT
BEGIN:STANDARD
DTSTART:20300407T020000
TZNAME:AEST
TZOFFSETTO:+1000
TZOFFSETFROM:+1100
END:STANDARD
BEGIN:DAYLIGHT
DTSTART:20301006T030000
TZNAME:AEDT
TZOFFSETTO:+1100
TZOFFSETFROM:+1000
END:DAYLIGHT
BEGIN:STANDARD
DTSTART:20310406T020000
TZNAME:AEST
TZOFFSETTO:+1000
TZOFFSETFROM:+1100
END:STANDARD
BEGIN:DAYLIGHT
DTSTART:20311005T030000
TZNAME:AEDT
TZOFFSETTO:+1100
TZOFFSETFROM:+1000
END:DAYLIGHT
BEGIN:STANDARD
DTSTART:20320404T020000
TZNAME:AEST
TZOFFSETTO:+1000
TZOFFSETFROM:+1100
END:STANDARD
BEGIN:DAYLIGHT
DTSTART:20321003T030000
TZNAME:AEDT
TZOFFSETTO:+1100
TZOFFSETFROM:+1000
END:DAYLIGHT
BEGIN:STANDARD
DTSTART:20330403T020000
TZNAME:AEST
TZOFFSETTO:+1000
TZOFFSETFROM:+1100
END:STANDARD
BEGIN:DAYLIGHT
DTSTART:20331002T030000
TZNAME:AEDT
TZOFFSETTO:+1100
TZOFFSETFROM:+1000
END:DAYLIGHT
BEGIN:STANDARD
DTSTART:20340402T020000
TZNAME:AEST
TZOFFSETTO:+1000
TZOFFSETFROM:+1100
END:STANDARD
BEGIN:DAYLIGHT
DTSTART:20341001T030000
TZNAME:AEDT
TZOFFSETTO:+1100
TZOFFSETFROM:+1000
END:DAYLIGHT
BEGIN:STANDARD
DTSTART:20350401T020000
TZNAME:AEST
TZOFFSETTO:+1000
TZOFFSETFROM:+1100
END:STANDARD
BEGIN:DAYLIGHT
DTSTART:20351007T030000
TZNAME:AEDT
TZOFFSETTO:+1100
TZOFFSETFROM:+1000
END:DAYLIGHT
BEGIN:STANDARD
DTSTART:20360406T020000
TZNAME:AEST
TZOFFSETTO:+1000
TZOFFSETFROM:+1100
END:STANDARD
BEGIN:DAYLIGHT
DTSTART:20361005T030000
TZNAME:AEDT
TZOFFSETTO:+1100
TZOFFSETFROM:+1000
END:DAYLIGHT
BEGIN:STANDARD
DTSTART:20370405T020000
TZNAME:AEST
TZOFFSETTO:+1000
TZOFFSETFROM:+1100
END:STANDARD
BEGIN:DAYLIGHT
DTSTART:20371004T030000
TZNAME:AEDT
TZOFFSETTO:+1100
TZOFFSETFROM:+1000
END:DAYLIGHT
BEGIN:STANDARD
DTSTART:20380404T020000
TZNAME:AEST
TZOFFSETTO:+1000
TZOFFSETFROM:+1100
END:STANDARD
BEGIN:DAYLIGHT
DTSTART:20381003T030000
TZNAME:AEDT
TZOFFSETTO:+1100
TZOFFSETFROM:+1000
END:DAYLIGHT
BEGIN:STANDARD
DTSTART:20390403T020000
TZNAME:AEST
TZOFFSETTO:+1000
TZOFFSETFROM:+1100
END:STANDARD
BEGIN:DAYLIGHT
DTSTART:20391002T030000
TZNAME:AEDT
TZOFFSETTO:+1100
TZOFFSETFROM:+1000
END:DAYLIGHT
BEGIN:STANDARD
DTSTART:20400401T020000
TZNAME:AEST
TZOFFSETTO:+1000
TZOFFSETFROM:+1100
END:STANDARD
BEGIN:DAYLIGHT
DTSTART:20401007T030000
TZNAME:AEDT
TZOFFSETTO:+1100
TZOFFSETFROM:+1000
END:DAYLIGHT
BEGIN:STANDARD
DTSTART:20410407T020000
TZNAME:AEST
TZOFFSETTO:+1000
TZOFFSETFROM:+1100
END:STANDARD
BEGIN:DAYLIGHT
DTSTART:20411006T030000
TZNAME:AEDT
TZOFFSETTO:+1100
TZOFFSETFROM:+1000
END:DAYLIGHT
BEGIN:STANDARD
DTSTART:20420406T020000
TZNAME:AEST
TZOFFSETTO:+1000
TZOFFSETFROM:+1100
END:STANDARD
BEGIN:DAYLIGHT
DTSTART:20421005T030000
TZNAME:AEDT
TZOFFSETTO:+1100
TZOFFSETFROM:+1000
END:DAYLIGHT
BEGIN:STANDARD
DTSTART:20430405T020000
TZNAME:AEST
TZOFFSETTO:+1000
TZOFFSETFROM:+1100
END:STANDARD
BEGIN:DAYLIGHT
DTSTART:20431004T030000
TZNAME:AEDT
TZOFFSETTO:+1100
TZOFFSETFROM:+1000
END:DAYLIGHT
BEGIN:STANDARD
DTSTART:20440403T020000
TZNAME:AEST
TZOFFSETTO:+1000
TZOFFSETFROM:+1100
END:STANDARD
BEGIN:DAYLIGHT
DTSTART:20441002T030000
TZNAME:AEDT
TZOFFSETTO:+1100
TZOFFSETFROM:+1000
END:DAYLIGHT
BEGIN:STANDARD
DTSTART:20450402T020000
TZNAME:AEST
TZOFFSETTO:+1000
TZOFFSETFROM:+1100
END:STANDARD
BEGIN:DAYLIGHT
DTSTART:20451001T030000
TZNAME:AEDT
TZOFFSETTO:+1100
TZOFFSETFROM:+1000
END:DAYLIGHT
BEGIN:STANDARD
DTSTART:20460401T020000
TZNAME:AEST
TZOFFSETTO:+1000
TZOFFSETFROM:+1100
END:STANDARD
BEGIN:DAYLIGHT
DTSTART:20461007T030000
TZNAME:AEDT
TZOFFSETTO:+1100
TZOFFSETFROM:+1000
END:DAYLIGHT
BEGIN:STANDARD
DTSTART:20470407T020000
TZNAME:AEST
TZOFFSETTO:+1000
TZOFFSETFROM:+1100
END:STANDARD
BEGIN:DAYLIGHT
DTSTART:20471006T030000
TZNAME:AEDT
TZOFFSETTO:+1100
TZOFFSETFROM:+1000
END:DAYLIGHT
BEGIN:STANDARD
DTSTART:20480405T020000
TZNAME:AEST
TZOFFSETTO:+1000
TZOFFSETFROM:+1100
END:STANDARD
BEGIN:DAYLIGHT
DTSTART:20481004T030000
TZNAME:AEDT
TZOFFSETTO:+1100
TZOFFSETFROM:+1000
END:DAYLIGHT
BEGIN:STANDARD
DTSTART:20490404T020000
TZNAME:AEST
TZOFFSETTO:+1000
TZOFFSETFROM:+1100
END:STANDARD
BEGIN:DAYLIGHT
DTSTART:20491003T030000
TZNAME:AEDT
TZOFFSETTO:+1100
TZOFFSETFROM:+1000
END:DAYLIGHT
BEGIN:STANDARD
DTSTART:20500403T020000
TZNAME:AEST
TZOFFSETTO:+1000
TZOFFSETFROM:+1100
END:STANDARD
BEGIN:DAYLIGHT
DTSTART:20501002T030000
TZNAME:AEDT
TZOFFSETTO:+1100
TZOFFSETFROM:+1000
END:DAYLIGHT
BEGIN:STANDARD
DTSTART:20510402T020000
TZNAME:AEST
TZOFFSETTO:+1000
TZOFFSETFROM:+1100
END:STANDARD
BEGIN:DAYLIGHT
DTSTART:20511001T030000
TZNAME:AEDT
TZOFFSETTO:+1100
TZOFFSETFROM:+1000
END:DAYLIGHT
BEGIN:STANDARD
DTSTART:20520407T020000
TZNAME:AEST
TZOFFSETTO:+1000
TZOFFSETFROM:+1100
END:STANDARD
BEGIN:DAYLIGHT
DTSTART:20521006T030000
TZNAME:AEDT
TZOFFSETTO:+1100
TZOFFSETFROM:+1000
END:DAYLIGHT
BEGIN:STANDARD
DTSTART:20530406T020000
TZNAME:AEST
TZOFFSETTO:+1000
TZOFFSETFROM:+1100
END:STANDARD
BEGIN:DAYLIGHT
DTSTART:20531005T030000
TZNAME:AEDT
TZOFFSETTO:+1100
TZOFFSETFROM:+1000
END:DAYLIGHT
BEGIN:STANDARD
DTSTART:20540405T020000
TZNAME:AEST
TZOFFSETTO:+1000
TZOFFSETFROM:+1100
END:STANDARD
BEGIN:DAYLIGHT
DTSTART:20541004T030000
TZNAME:AEDT
TZOFFSETTO:+1100
TZOFFSETFROM:+1000
END:DAYLIGHT
BEGIN:STANDARD
DTSTART:20550404T020000
TZNAME:AEST
TZOFFSETTO:+1000
TZOFFSETFROM:+1100
END:STANDARD
BEGIN:DAYLIGHT
DTSTART:20551003T030000
TZNAME:AEDT
TZOFFSETTO:+1100
TZOFFSETFROM:+1000
END:DAYLIGHT
BEGIN:STANDARD
DTSTART:20560402T020000
TZNAME:AEST
TZOFFSETTO:+1000
TZOFFSETFROM:+1100
END:STANDARD
BEGIN:DAYLIGHT
DTSTART:20561001T030000
TZNAME:AEDT
TZOFFSETTO:+1100
TZOFFSETFROM:+1000
END:DAYLIGHT
BEGIN:STANDARD
DTSTART:20570401T020000
TZNAME:AEST
TZOFFSETTO:+1000
TZOFFSETFROM:+1100
END:STANDARD
BEGIN:DAYLIGHT
DTSTART:20571007T030000
TZNAME:AEDT
TZOFFSETTO:+1100
TZOFFSETFROM:+1000
END:DAYLIGHT
BEGIN:STANDARD
DTSTART:20580407T020000
TZNAME:AEST
TZOFFSETTO:+1000
TZOFFSETFROM:+1100
END:STANDARD
BEGIN:DAYLIGHT
DTSTART:20581006T030000
TZNAME:AEDT
TZOFFSETTO:+1100
TZOFFSETFROM:+1000
END:DAYLIGHT
BEGIN:STANDARD
DTSTART:20590406T020000
TZNAME:AEST
TZOFFSETTO:+1000
TZOFFSETFROM:+1100
END:STANDARD
BEGIN:DAYLIGHT
DTSTART:20591005T030000
TZNAME:AEDT
TZOFFSETTO:+1100
TZOFFSETFROM:+1000
END:DAYLIGHT
BEGIN:STANDARD
DTSTART:20600404T020000
TZNAME:AEST
TZOFFSETTO:+1000
TZOFFSETFROM:+1100
END:STANDARD
BEGIN:DAYLIGHT
DTSTART:20601003T030000
TZNAME:AEDT
TZOFFSETTO:+1100
TZOFFSETFROM:+1000
END:DAYLIGHT
BEGIN:STANDARD
DTSTART:20610403T020000
TZNAME:AEST
TZOFFSETTO:+1000
TZOFFSETFROM:+1100
END:STANDARD
BEGIN:DAYLIGHT
DTSTART:20611002T030000
TZNAME:AEDT
TZOFFSETTO:+1100
TZOFFSETFROM:+1000
END:DAYLIGHT
BEGIN:STANDARD
DTSTART:20620402T020000
TZNAME:AEST
TZOFFSETTO:+1000
TZOFFSETFROM:+1100
END:STANDARD
BEGIN:DAYLIGHT
DTSTART:20621001T030000
TZNAME:AEDT
TZOFFSETTO:+1100
TZOFFSETFROM:+1000
END:DAYLIGHT
BEGIN:STANDARD
DTSTART:20630401T020000
TZNAME:AEST
TZOFFSETTO:+1000
TZOFFSETFROM:+1100
END:STANDARD
BEGIN:DAYLIGHT
DTSTART:20631007T030000
TZNAME:AEDT
TZOFFSETTO:+1100
TZOFFSETFROM:+1000
END:DAYLIGHT
BEGIN:STANDARD
DTSTART:20640406T020000
TZNAME:AEST
TZOFFSETTO:+1000
TZOFFSETFROM:+1100
END:STANDARD
BEGIN:DAYLIGHT
DTSTART:20641005T030000
TZNAME:AEDT
TZOFFSETTO:+1100
TZOFFSETFROM:+1000
END:DAYLIGHT
BEGIN:STANDARD
DTSTART:20650405T020000
TZNAME:AEST
TZOFFSETTO:+1000
TZOFFSETFROM:+1100
END:STANDARD
BEGIN:DAYLIGHT
DTSTART:20651004T030000
TZNAME:AEDT
TZOFFSETTO:+1100
TZOFFSETFROM:+1000
END:DAYLIGHT
BEGIN:STANDARD
DTSTART:20660404T020000
TZNAME:AEST
TZOFFSETTO:+1000
TZOFFSETFROM:+1100
END:STANDARD
BEGIN:DAYLIGHT
DTSTART:20661003T030000
TZNAME:AEDT
TZOFFSETTO:+1100
TZOFFSETFROM:+1000
END:DAYLIGHT
BEGIN:STANDARD
DTSTART:20670403T020000
TZNAME:AEST
TZOFFSETTO:+1000
TZOFFSETFROM:+1100
END:STANDARD
BEGIN:DAYLIGHT
DTSTART:20671002T030000
TZNAME:AEDT
TZOFFSETTO:+1100
TZOFFSETFROM:+1000
END:DAYLIGHT
BEGIN:STANDARD
DTSTART:20680401T020000
TZNAME:AEST
TZOFFSETTO:+1000
TZOFFSETFROM:+1100
END:STANDARD
BEGIN:DAYLIGHT
DTSTART:20681007T030000
TZNAME:AEDT
TZOFFSETTO:+1100
TZOFFSETFROM:+1000
END:DAYLIGHT
BEGIN:STANDARD
DTSTART:20690407T020000
TZNAME:AEST
TZOFFSETTO:+1000
TZOFFSETFROM:+1100
END:STANDARD
BEGIN:DAYLIGHT
DTSTART:20691006T030000
TZNAME:AEDT
TZOFFSETTO:+1100
TZOFFSETFROM:+1000
END:DAYLIGHT
BEGIN:STANDARD
DTSTART:20700406T020000
TZNAME:AEST
TZOFFSETTO:+1000
TZOFFSETFROM:+1100
END:STANDARD
BEGIN:DAYLIGHT
DTSTART:20701005T030000
TZNAME:AEDT
TZOFFSETTO:+1100
TZOFFSETFROM:+1000
END:DAYLIGHT
BEGIN:STANDARD
DTSTART:20710405T020000
TZNAME:AEST
TZOFFSETTO:+1000
TZOFFSETFROM:+1100
END:STANDARD
BEGIN:DAYLIGHT
DTSTART:20711004T030000
TZNAME:AEDT
TZOFFSETTO:+1100
TZOFFSETFROM:+1000
END:DAYLIGHT
BEGIN:STANDARD
DTSTART:20720403T020000
TZNAME:AEST
TZOFFSETTO:+1000
TZOFFSETFROM:+1100
END:STANDARD
BEGIN:DAYLIGHT
DTSTART:20721002T030000
TZNAME:AEDT
TZOFFSETTO:+1100
TZOFFSETFROM:+1000
END:DAYLIGHT
BEGIN:STANDARD
DTSTART:20730402T020000
TZNAME:AEST
TZOFFSETTO:+1000
TZOFFSETFROM:+1100
END:STANDARD
BEGIN:DAYLIGHT
DTSTART:20731001T030000
TZNAME:AEDT
TZOFFSETTO:+1100
TZOFFSETFROM:+1000
END:DAYLIGHT
BEGIN:STANDARD
DTSTART:20740401T020000
TZNAME:AEST
TZOFFSETTO:+1000
TZOFFSETFROM:+1100
END:STANDARD
BEGIN:DAYLIGHT
DTSTART:20741007T030000
TZNAME:AEDT
TZOFFSETTO:+1100
TZOFFSETFROM:+1000
END:DAYLIGHT
BEGIN:STANDARD
DTSTART:20750407T020000
TZNAME:AEST
TZOFFSETTO:+1000
TZOFFSETFROM:+1100
END:STANDARD
BEGIN:DAYLIGHT
DTSTART:20751006T030000
TZNAME:AEDT
TZOFFSETTO:+1100
TZOFFSETFROM:+1000
END:DAYLIGHT
BEGIN:STANDARD
DTSTART:20760405T020000
TZNAME:AEST
TZOFFSETTO:+1000
TZOFFSETFROM:+1100
END:STANDARD
BEGIN:DAYLIGHT
DTSTART:20761004T030000
TZNAME:AEDT
TZOFFSETTO:+1100
TZOFFSETFROM:+1000
END:DAYLIGHT
BEGIN:STANDARD
DTSTART:20770404T020000
TZNAME:AEST
TZOFFSETTO:+1000
TZOFFSETFROM:+1100
END:STANDARD
BEGIN:DAYLIGHT
DTSTART:20771003T030000
TZNAME:AEDT
TZOFFSETTO:+1100
TZOFFSETFROM:+1000
END:DAYLIGHT
BEGIN:STANDARD
DTSTART:20780403T020000
TZNAME:AEST
TZOFFSETTO:+1000
TZOFFSETFROM:+1100
END:STANDARD
BEGIN:DAYLIGHT
DTSTART:20781002T030000
TZNAME:AEDT
TZOFFSETTO:+1100
TZOFFSETFROM:+1000
END:DAYLIGHT
BEGIN:STANDARD
DTSTART:20790402T020000
TZNAME:AEST
TZOFFSETTO:+1000
TZOFFSETFROM:+1100
END:STANDARD
BEGIN:DAYLIGHT
DTSTART:20791001T030000
TZNAME:AEDT
TZOFFSETTO:+1100
TZOFFSETFROM:+1000
END:DAYLIGHT
BEGIN:STANDARD
DTSTART:20800407T020000
TZNAME:AEST
TZOFFSETTO:+1000
TZOFFSETFROM:+1100
END:STANDARD
BEGIN:DAYLIGHT
DTSTART:20801006T030000
TZNAME:AEDT
TZOFFSETTO:+1100
TZOFFSETFROM:+1000
END:DAYLIGHT
BEGIN:STANDARD
DTSTART:20810406T020000
TZNAME:AEST
TZOFFSETTO:+1000
TZOFFSETFROM:+1100
END:STANDARD
BEGIN:DAYLIGHT
DTSTART:20811005T030000
TZNAME:AEDT
TZOFFSETTO:+1100
TZOFFSETFROM:+1000
END:DAYLIGHT
BEGIN:STANDARD
DTSTART:20820405T020000
TZNAME:AEST
TZOFFSETTO:+1000
TZOFFSETFROM:+1100
END:STANDARD
BEGIN:DAYLIGHT
DTSTART:20821004T030000
TZNAME:AEDT
TZOFFSETTO:+1100
TZOFFSETFROM:+1000
END:DAYLIGHT
BEGIN:STANDARD
DTSTART:20830404T020000
TZNAME:AEST
TZOFFSETTO:+1000
TZOFFSETFROM:+1100
END:STANDARD
BEGIN:DAYLIGHT
DTSTART:20831003T030000
TZNAME:AEDT
TZOFFSETTO:+1100
TZOFFSETFROM:+1000
END:DAYLIGHT
BEGIN:STANDARD
DTSTART:20840402T020000
TZNAME:AEST
TZOFFSETTO:+1000
TZOFFSETFROM:+1100
END:STANDARD
BEGIN:DAYLIGHT
DTSTART:20841001T030000
TZNAME:AEDT
TZOFFSETTO:+1100
TZOFFSETFROM:+1000
END:DAYLIGHT
BEGIN:STANDARD
DTSTART:20850401T020000
TZNAME:AEST
TZOFFSETTO:+1000
TZOFFSETFROM:+1100
END:STANDARD
BEGIN:DAYLIGHT
DTSTART:20851007T030000
TZNAME:AEDT
TZOFFSETTO:+1100
TZOFFSETFROM:+1000
END:DAYLIGHT
BEGIN:STANDARD
DTSTART:20860407T020000
TZNAME:AEST
TZOFFSETTO:+1000
TZOFFSETFROM:+1100
END:STANDARD
BEGIN:DAYLIGHT
DTSTART:20861006T030000
TZNAME:AEDT
TZOFFSETTO:+1100
TZOFFSETFROM:+1000
END:DAYLIGHT
BEGIN:STANDARD
DTSTART:20870406T020000
TZNAME:AEST
TZOFFSETTO:+1000
TZOFFSETFROM:+1100
END:STANDARD
BEGIN:DAYLIGHT
DTSTART:20871005T030000
TZNAME:AEDT
TZOFFSETTO:+1100
TZOFFSETFROM:+1000
END:DAYLIGHT
BEGIN:STANDARD
DTSTART:20880404T020000
TZNAME:AEST
TZOFFSETTO:+1000
TZOFFSETFROM:+1100
END:STANDARD
BEGIN:DAYLIGHT
DTSTART:20881003T030000
TZNAME:AEDT
TZOFFSETTO:+1100
TZOFFSETFROM:+1000
END:DAYLIGHT
BEGIN:STANDARD
DTSTART:20890403T020000
TZNAME:AEST
TZOFFSETTO:+1000
TZOFFSETFROM:+1100
END:STANDARD
BEGIN:DAYLIGHT
DTSTART:20891002T030000
TZNAME:AEDT
TZOFFSETTO:+1100
TZOFFSETFROM:+1000
END:DAYLIGHT
BEGIN:STANDARD
DTSTART:20900402T020000
TZNAME:AEST
TZOFFSETTO:+1000
TZOFFSETFROM:+1100
END:STANDARD
BEGIN:DAYLIGHT
DTSTART:20901001T030000
TZNAME:AEDT
TZOFFSETTO:+1100
TZOFFSETFROM:+1000
END:DAYLIGHT
BEGIN:STANDARD
DTSTART:20910401T020000
TZNAME:AEST
TZOFFSETTO:+1000
TZOFFSETFROM:+1100
END:STANDARD
BEGIN:DAYLIGHT
DTSTART:20911007T030000
TZNAME:AEDT
TZOFFSETTO:+1100
TZOFFSETFROM:+1000
END:DAYLIGHT
BEGIN:STANDARD
DTSTART:20920406T020000
TZNAME:AEST
TZOFFSETTO:+1000
TZOFFSETFROM:+1100
END:STANDARD
BEGIN:DAYLIGHT
DTSTART:20921005T030000
TZNAME:AEDT
TZOFFSETTO:+1100
TZOFFSETFROM:+1000
END:DAYLIGHT
BEGIN:STANDARD
DTSTART:20930405T020000
TZNAME:AEST
TZOFFSETTO:+1000
TZOFFSETFROM:+1100
END:STANDARD
BEGIN:DAYLIGHT
DTSTART:20931004T030000
TZNAME:AEDT
TZOFFSETTO:+1100
TZOFFSETFROM:+1000
END:DAYLIGHT
BEGIN:STANDARD
DTSTART:20940404T020000
TZNAME:AEST
TZOFFSETTO:+1000
TZOFFSETFROM:+1100
END:STANDARD
BEGIN:DAYLIGHT
DTSTART:20941003T030000
TZNAME:AEDT
TZOFFSETTO:+1100
TZOFFSETFROM:+1000
END:DAYLIGHT
BEGIN:STANDARD
DTSTART:20950403T020000
TZNAME:AEST
TZOFFSETTO:+1000
TZOFFSETFROM:+1100
END:STANDARD
BEGIN:DAYLIGHT
DTSTART:20951002T030000
TZNAME:AEDT
TZOFFSETTO:+1100
TZOFFSETFROM:+1000
END:DAYLIGHT
BEGIN:STANDARD
DTSTART:20960401T020000
TZNAME:AEST
TZOFFSETTO:+1000
TZOFFSETFROM:+1100
END:STANDARD
BEGIN:DAYLIGHT
DTSTART:20961007T030000
TZNAME:AEDT
TZOFFSETTO:+1100
TZOFFSETFROM:+1000
END:DAYLIGHT
BEGIN:STANDARD
DTSTART:20970407T020000
TZNAME:AEST
TZOFFSETTO:+1000
TZOFFSETFROM:+1100
END:STANDARD
BEGIN:DAYLIGHT
DTSTART:20971006T030000
TZNAME:AEDT
TZOFFSETTO:+1100
TZOFFSETFROM:+1000
END:DAYLIGHT
BEGIN:STANDARD
DTSTART:20980406T020000
TZNAME:AEST
TZOFFSETTO:+1000
TZOFFSETFROM:+1100
END:STANDARD
BEGIN:DAYLIGHT
DTSTART:20981005T030000
TZNAME:AEDT
TZOFFSETTO:+1100
TZOFFSETFROM:+1000
END:DAYLIGHT
BEGIN:STANDARD
DTSTART:20990405T020000
TZNAME:AEST
TZOFFSETTO:+1000
TZOFFSETFROM:+1100
END:STANDARD
BEGIN:DAYLIGHT
DTSTART:20991004T030000
TZNAME:AEDT
TZOFFSETTO:+1100
TZOFFSETFROM:+1000
END:DAYLIGHT
END:VTIMEZONE
END:VCALENDAR
